BEGIN:VCALENDAR
METHOD:PUBLISH
VERSION:2.0
PRODID:-//Eventilla iCal Syndication//NONSGML Liana//EN
BEGIN:VEVENT
UID:4AolB@eventilla.com
DTSTAMP:20221231T100000Z
DTSTART:20221231T100000Z
DTEND:20221231T120000Z
SUMMARY:test only
DESCRIPTION: \nتقا\n هذه الجلسة عن بُعد عبر \nنصة Microsoft Teams. \nالتاريخ: \nالوقت: \nاللغة: \nالج\nهور ال\nستهدف: \nال\nقاعد \nحدودة. اضغط على الزر أدناه للتسجيل.
LOCATION:عن بُعد عبر منصة Microsoft Teams
URL:http://events.qnl.qa/event/4AolB
END:VEVENT
END:VCALENDAR
