BEGIN:VCALENDAR
METHOD:PUBLISH
VERSION:2.0
PRODID:-//Eventilla iCal Syndication//NONSGML Liana//EN
BEGIN:VEVENT
UID:4A1Lo@eventilla.com
DTSTAMP:20231115T123000Z
DTSTART:20231115T123000Z
DTEND:20231115T133000Z
SUMMARY:AI & Arabic Calligraphy: Crafting Calligraphy in the Digital Age - Part 1\, Seminar
DESCRIPTION:Join us in this event\, where tradition meets innovation\, as we celebrate the fusion of Arabic calligraphy and artificial intelligence (AI). We will also introduce Arabic calligraphy's cultural significance and emphasize AI's transformative role in artistic expression.\nDate: 15 Novermber 2023 \nTime: 3:30 - 4:30 PM\nLanguage: English\nTarget Audience: Public \nSeats are limited\, please click the button below to register.\n 
LOCATION:Auditorium\, Qatar National Library, Education City, Al Luqta
 St\, Doha\, Qatar
URL:http://events.qnl.qa/event/4A1Lo
END:VEVENT
END:VCALENDAR
