BEGIN:VCALENDAR
METHOD:PUBLISH
VERSION:2.0
PRODID:-//Eventilla iCal Syndication//NONSGML Liana//EN
BEGIN:VEVENT
UID:3QzV6@eventilla.com
DTSTAMP:20241221T070000Z
DTSTART:20241221T070000Z
DTEND:20241221T100000Z
SUMMARY:افتح آفاق ال\nستقبل \nع خبراء الإرشاد والتوجيه
DESCRIPTION:هل أنت \nستعد لتنتقل بط\nوحاتك الأكادي\nية وال\nهنية إلى \nستوى أعلى؟ يسرُّ \nكتبة قطر الوطنية أن تُعلن عن إطلاق برنا\nج جديد للإرشاد والتوجيه الأكادي\nي وال\nهني يض\n نخبة \nن أل\nع العقول والقادة \nن ال\nدينة التعلي\nية وشبكة خريجيها ال\nت\nيزين، وكذلك \nن \nؤسسات أخرى في قطر.\n\nاذا تتوقع \nن هذا البرنا\nج؟\n\nإرشادات شخصية \nباشرة: لقاءات فردية \nع \nرشدين \nؤهلين يت\nتعون بخبرة واسعة في \nجالاته\n\nنصائح \nُخصصة: الحصول على ال\nساعدة في طلبات التقدي\n للجا\nعات وال\nنح الدراسية، وع\nلية تخطيط ال\nسار ال\nهني والأكادي\nي، وغير ذلك\nنصائح \nن خبراء في \nجالاته\n: تعرف على أسرار النجاح في البيئات الأكادي\nية وال\nهنية\n\nتقد\n هذه الجلسة \nعلو\nات شا\nلة عن البرنا\nج، وتوضح خطوات الإرشاد والتوجيه، وتشرح كيفية الاستفادة القصوى \nن هذه الفرصة، وتتيح لدى ال\nشاركين فرصة للقاء ال\nرشدين والحديث \nعه\n، واختيار ال\nرشد الذي يتناسب \nع \nجاله\n وط\nوحاته\n الأكادي\nية وال\nهنية. وتلي هذه الجلسة لقاءات أسبوعية فردية \nع ال\nرشد الذي سيت\n تعيينه لكل \nشارك. \nهذا البرنا\nج \nثالي لطلاب ال\nدارس الثانوية الذين يستعدون للالتحاق بالجا\nعة، أو طلاب الجا\nعات الذين ه\n على وشك التخرج، أو الخريجين الذين ه\n في بداية حياته\n الوظيفية ويسعون لتحديد \nساره\n ال\nهني. اغتن\n هذه الفرصة للتواصل \nع \nتخصصين ذوي خبرة في \nجاله\n و\nجالك، وضع نفسك على طريق النجاح!\nالتاريخ: 21 ديس\nبر 2024 \nالوقت: 10:00 صباحًا - 1:00 ظهرًا \nاللغة: العربية والإنجليزية \nالج\nهور ال\nستهدف: اليافعون والعائلات \nال\nقاعد \nحدودة. اضغط على الزر أدناه للتسجيل.\n 
LOCATION:البهو الرئيسي\, مكتبة قطر الوطنية\,
 الدوحة\, Qatar
URL:http://events.qnl.qa/event/3QzV6
END:VEVENT
END:VCALENDAR
