BEGIN:VCALENDAR
METHOD:PUBLISH
VERSION:2.0
PRODID:-//Eventilla iCal Syndication//NONSGML Liana//EN
BEGIN:VEVENT
UID:2w675@eventilla.com
DTSTAMP:20251027T070000Z
DTSTART:20251027T070000Z
DTEND:20251030T090000Z
SUMMARY:Programming Adventures: Create Your Digital Story (AI Club / SBF)
DESCRIPTION:As part of the AI Club and the Science Book Forum\, children are invited to explore the world of programming through interactive digital stories.\nUsing Scratch\, they will transform their ideas into digital scenes\, design characters and backgrounds\, and add dialogues and sounds to create a complete digital story that can be experienced and shared.\nThis engaging experience combines creativity\, imagination\, and technical skills\, with tangible outputs for children to present. \nDate: 27 - 30 October\nTime: 10:00 AM - 12:00 PM\nLanguage: Arabic\nTarget Audience: 12 to 14 years old \nSeats are limited\, please click the button below to register.
LOCATION:Innovation Station 1\, Qatar National Library\, Doha
URL:http://events.qnl.qa/event/2w675
END:VEVENT
END:VCALENDAR
