BEGIN:VCALENDAR
METHOD:PUBLISH
VERSION:2.0
PRODID:-//Eventilla iCal Syndication//NONSGML Liana//EN
BEGIN:VEVENT
UID:0gNXg@eventilla.com
DTSTAMP:20251011T093000Z
DTSTART:20251011T093000Z
DTEND:20251011T103000Z
SUMMARY:Six Thinking Hats
DESCRIPTION:We invite you to join us in this session for a specialized training for librarians and educators on "The Six Thinking Hats"\, an effective tool for enhancing individual thinking and group discussions.\nYou will explore different thinking styles and their unique characteristics while learning how to direct your thinking toward clear objectives.\nThe workshop will also include practical exercises designed to foster creative thinking and effective decision-making.\nThe event will be conducted online via Microsoft Teams. \nDate: 11 October 2025\nTime: 12:30 - 1:30 PM \nLanguage: Arabic\nTarget Audience: Teens\nSeats are limited\, please click the button below to register.
LOCATION:Online via Microsoft Teams
URL:http://events.qnl.qa/event/0gNXg
END:VEVENT
END:VCALENDAR
